BEGIN:VCALENDAR
VERSION:2.0
PRODID:-//Blog - ECPv6.8.3//NONSGML v1.0//EN
CALSCALE:GREGORIAN
METHOD:PUBLISH
X-WR-CALNAME:Blog
X-ORIGINAL-URL:https://sangameyehospital.com/blogs
X-WR-CALDESC:Events for Blog
REFRESH-INTERVAL;VALUE=DURATION:PT1H
X-Robots-Tag:noindex
X-PUBLISHED-TTL:PT1H
BEGIN:VTIMEZONE
TZID:UTC
BEGIN:STANDARD
TZOFFSETFROM:+0000
TZOFFSETTO:+0000
TZNAME:UTC
DTSTART:20230101T000000
END:STANDARD
TZID:Asia/Kolkata
BEGIN:STANDARD
TZOFFSETFROM:+0530
TZOFFSETTO:+0530
TZNAME:IST
DTSTART:20230101T000000
END:STANDARD
END:VTIMEZONE
BEGIN:VEVENT
DTSTART;TZID=UTC:20260424T080000
DTEND;TZID=UTC:20260424T170000
DTSTAMP:20260425T114018
CREATED:20260424T082419Z
LAST-MODIFIED:20260424T082419Z
UID:1391-1777017600-1777050000@sangameyehospital.com
SUMMARY:निःशुल्क नेत्र परीक्षण शिविर | पंचायत हरपुर\, बुढ़त
DESCRIPTION:संगम आई हॉस्पिटल द्वारा पंचायत हरपुर\, बुढ़त में निःशुल्क नेत्र परीक्षण एवं स्वास्थ्य जागरूकता शिविर का आयोजन किया गया। \nइस शिविर में अनुभवी नेत्र विशेषज्ञों द्वारा आंखों की जांच\, परामर्श एवं आवश्यक उपचार संबंधी मार्गदर्शन प्रदान किया गया। कार्यक्रम का उद्देश्य ग्रामीण क्षेत्र के लोगों को बेहतर नेत्र स्वास्थ्य सेवाएं उपलब्ध कराना एवं आंखों की बीमारियों के प्रति जागरूक करना है। \nसभी क्षेत्रवासियों से अनुरोध है कि इस अवसर का लाभ उठाएं और अपनी आंखों की जांच अवश्य कराएं।
URL:https://sangameyehospital.com/blogs/event/%e0%a4%a8%e0%a4%bf%e0%a4%83%e0%a4%b6%e0%a5%81%e0%a4%b2%e0%a5%8d%e0%a4%95-%e0%a4%a8%e0%a5%87%e0%a4%a4%e0%a5%8d%e0%a4%b0-%e0%a4%aa%e0%a4%b0%e0%a5%80%e0%a4%95%e0%a5%8d%e0%a4%b7%e0%a4%a3-%e0%a4%b6-4/
ATTACH;FMTTYPE=image/jpeg:https://sangameyehospital.com/blogs/wp-content/uploads/2026/04/WhatsApp-Image-2026-04-21-at-1.19.19-PM.jpeg
END:VEVENT
BEGIN:VEVENT
DTSTART;TZID=UTC:20260424T080000
DTEND;TZID=UTC:20260424T170000
DTSTAMP:20260425T114018
CREATED:20260424T082044Z
LAST-MODIFIED:20260424T082044Z
UID:1386-1777017600-1777050000@sangameyehospital.com
SUMMARY:निःशुल्क नेत्र परीक्षण शिविर | ECHS मरीजों के लिए | गोरखपुर
DESCRIPTION:संगम आई हॉस्पिटल द्वारा गोरखपुर में ECHS (Ex-Servicemen Contributory Health Scheme) के मरीजों के लिए निःशुल्क नेत्र परीक्षण एवं स्वास्थ्य जागरूकता शिविर का आयोजन किया गया। \nइस शिविर में अनुभवी नेत्र विशेषज्ञों द्वारा आंखों की जांच\, परामर्श एवं आवश्यक उपचार संबंधी मार्गदर्शन प्रदान किया गया। कार्यक्रम का उद्देश्य पूर्व सैनिकों एवं उनके आश्रितों को बेहतर नेत्र स्वास्थ्य सेवाएं उपलब्ध कराना एवं आंखों की बीमारियों के प्रति जागरूक करना है। \nसभी ECHS लाभार्थियों से अनुरोध है कि इस अवसर का लाभ उठाएं और अपनी आंखों की जांच अवश्य कराएं।
URL:https://sangameyehospital.com/blogs/event/%e0%a4%a8%e0%a4%bf%e0%a4%83%e0%a4%b6%e0%a5%81%e0%a4%b2%e0%a5%8d%e0%a4%95-%e0%a4%a8%e0%a5%87%e0%a4%a4%e0%a5%8d%e0%a4%b0-%e0%a4%aa%e0%a4%b0%e0%a5%80%e0%a4%95%e0%a5%8d%e0%a4%b7%e0%a4%a3-%e0%a4%b6-3/
ATTACH;FMTTYPE=image/jpeg:https://sangameyehospital.com/blogs/wp-content/uploads/2026/04/WhatsApp-Image-2026-04-19-at-10.49.20-AMsd.jpeg
END:VEVENT
BEGIN:VEVENT
DTSTART;TZID=UTC:20260424T080000
DTEND;TZID=UTC:20260424T170000
DTSTAMP:20260425T114018
CREATED:20260424T081841Z
LAST-MODIFIED:20260424T081841Z
UID:1382-1777017600-1777050000@sangameyehospital.com
SUMMARY:निःशुल्क नेत्र परीक्षण शिविर | पुलिस लाइन\, गोरखपुर
DESCRIPTION:संगम आई हॉस्पिटल द्वारा पुलिस लाइन\, गोरखपुर में निःशुल्क नेत्र परीक्षण एवं स्वास्थ्य जागरूकता शिविर का आयोजन किया गया। \nइस शिविर में अनुभवी नेत्र विशेषज्ञों द्वारा आंखों की जांच\, परामर्श एवं आवश्यक उपचार संबंधी मार्गदर्शन प्रदान किया गया। कार्यक्रम का उद्देश्य पुलिस कर्मियों एवं उनके परिवारों को बेहतर नेत्र स्वास्थ्य सुविधाएं प्रदान करना एवं आंखों की बीमारियों के प्रति जागरूक करना है।
URL:https://sangameyehospital.com/blogs/event/%e0%a4%a8%e0%a4%bf%e0%a4%83%e0%a4%b6%e0%a5%81%e0%a4%b2%e0%a5%8d%e0%a4%95-%e0%a4%a8%e0%a5%87%e0%a4%a4%e0%a5%8d%e0%a4%b0-%e0%a4%aa%e0%a4%b0%e0%a5%80%e0%a4%95%e0%a5%8d%e0%a4%b7%e0%a4%a3-%e0%a4%b6-2/
ATTACH;FMTTYPE=image/jpeg:https://sangameyehospital.com/blogs/wp-content/uploads/2026/04/WhatsApp-Image-2026-04-14-at-8.33.20-AM-1.jpeg
END:VEVENT
BEGIN:VEVENT
DTSTART;TZID=UTC:20260424T080000
DTEND;TZID=UTC:20260424T170000
DTSTAMP:20260425T114018
CREATED:20260424T073737Z
LAST-MODIFIED:20260424T073737Z
UID:1364-1777017600-1777050000@sangameyehospital.com
SUMMARY:निःशुल्क नेत्र परीक्षण एवं स्वास्थ्य जागरूकता कार्यक्रम | बसंतपुर\, गोरखपुर
DESCRIPTION:बसंतपुर\, गोरखपुर में संगम आई हॉस्पिटल द्वारा निःशुल्क नेत्र परीक्षण एवं स्वास्थ्य जागरूकता कार्यक्रम का आयोजन किया गया। इस शिविर में विशेषज्ञ डॉक्टरों द्वारा आंखों की जांच\, परामर्श तथा आवश्यक मार्गदर्शन प्रदान किया गया। \nइस कार्यक्रम का उद्देश्य लोगों को आंखों की बीमारियों के प्रति जागरूक करना एवं समय पर इलाज के लिए प्रेरित करना है।
URL:https://sangameyehospital.com/blogs/event/%e0%a4%a8%e0%a4%bf%e0%a4%83%e0%a4%b6%e0%a5%81%e0%a4%b2%e0%a5%8d%e0%a4%95-%e0%a4%a8%e0%a5%87%e0%a4%a4%e0%a5%8d%e0%a4%b0-%e0%a4%aa%e0%a4%b0%e0%a5%80%e0%a4%95%e0%a5%8d%e0%a4%b7%e0%a4%a3-%e0%a4%8f-2/
ATTACH;FMTTYPE=image/jpeg:https://sangameyehospital.com/blogs/wp-content/uploads/2026/03/WhatsApp-Image-2026-04-12-at-11.11.00-AMss.jpeg
END:VEVENT
BEGIN:VEVENT
DTSTART;TZID=UTC:20260414T080000
DTEND;TZID=UTC:20260414T170000
DTSTAMP:20260425T114018
CREATED:20260424T080506Z
LAST-MODIFIED:20260424T080506Z
UID:1378-1776153600-1776186000@sangameyehospital.com
SUMMARY:निःशुल्क नेत्र परीक्षण शिविर | अंबेडकर जयंती के अवसर पर | रामलीला मैदान\, गोरखनाथ\, गोरखपुर
DESCRIPTION:अंबेडकर जयंती के पावन अवसर पर संगम आई हॉस्पिटल द्वारा रामलीला मैदान\, गोरखनाथ\, गोरखपुर में निःशुल्क नेत्र परीक्षण एवं स्वास्थ्य जागरूकता शिविर का आयोजन किया गया। \nइस शिविर में अनुभवी नेत्र विशेषज्ञों द्वारा आंखों की जांच\, परामर्श एवं आवश्यक उपचार संबंधी मार्गदर्शन प्रदान किया गया। कार्यक्रम का मुख्य उद्देश्य समाज में नेत्र स्वास्थ्य के प्रति जागरूकता फैलाना एवं लोगों को समय पर जांच और इलाज के लिए प्रेरित करना है। \nसभी क्षेत्रवासियों से अनुरोध है कि इस अवसर का लाभ उठाएं और अपनी आंखों की जांच अवश्य कराएं।
URL:https://sangameyehospital.com/blogs/event/%e0%a4%a8%e0%a4%bf%e0%a4%83%e0%a4%b6%e0%a5%81%e0%a4%b2%e0%a5%8d%e0%a4%95-%e0%a4%a8%e0%a5%87%e0%a4%a4%e0%a5%8d%e0%a4%b0-%e0%a4%aa%e0%a4%b0%e0%a5%80%e0%a4%95%e0%a5%8d%e0%a4%b7%e0%a4%a3-%e0%a4%b6/
ATTACH;FMTTYPE=image/jpeg:https://sangameyehospital.com/blogs/wp-content/uploads/2026/04/WhatsApp-Image-2026-04-14-at-8.33.20-AM.jpeg
END:VEVENT
BEGIN:VEVENT
DTSTART;TZID=UTC:20260412T100000
DTEND;TZID=UTC:20260412T150000
DTSTAMP:20260425T114018
CREATED:20260324T121118Z
LAST-MODIFIED:20260424T073727Z
UID:1348-1775988000-1776006000@sangameyehospital.com
SUMMARY:निःशुल्क नेत्र परीक्षण एवं स्वास्थ्य जागरूकता कार्यक्रम | रिज़र्व पुलिस लाइन\, गोरखपुर
DESCRIPTION:रिज़र्व पुलिस लाइन\, गोरखपुर के प्रांगण में निःशुल्क नेत्र परीक्षण एवं स्वास्थ्य जागरूकता कार्यक्रम का आयोजन किया जा रहा है\, जिसमें विशेषज्ञ चिकित्सकों द्वारा जांच एवं परामर्श के साथ-साथ आवश्यक दवाओं का निःशुल्क वितरण भी किया जा रहा है।
URL:https://sangameyehospital.com/blogs/event/%e0%a4%a8%e0%a4%bf%e0%a4%83%e0%a4%b6%e0%a5%81%e0%a4%b2%e0%a5%8d%e0%a4%95-%e0%a4%a8%e0%a5%87%e0%a4%a4%e0%a5%8d%e0%a4%b0-%e0%a4%aa%e0%a4%b0%e0%a5%80%e0%a4%95%e0%a5%8d%e0%a4%b7%e0%a4%a3-%e0%a4%8f/
ATTACH;FMTTYPE=image/webp:https://sangameyehospital.com/blogs/wp-content/uploads/2026/03/WhatsApp-Image-2026-03-23-at-12.02.12-PM.webp
END:VEVENT
BEGIN:VEVENT
DTSTART;TZID=UTC:20231210T100000
DTEND;TZID=UTC:20231210T150000
DTSTAMP:20260425T114018
CREATED:20231125T121838Z
LAST-MODIFIED:20231125T121838Z
UID:381-1702202400-1702220400@sangameyehospital.com
SUMMARY:निः शुल्क नेत्र परीक्षण एवं दवा वितरण शिविर | फिराक साहब स्मारक\, बाल विद्या मंदिर\, बनवारपार गोला का प्रांगण\, गोरखपुर
DESCRIPTION:निः शुल्क नेत्र परीक्षण एवं दवा वितरण शिविर |\nस्थान- फिराक साहब स्मारक\, बाल विद्या मंदिर\, बनवारपार गोला का प्रांगण\, गोरखपुर\nदिनांक – 10 दिसंबर 2023\, समय – प्रातः 10 बजे से शाम 3 बजे तक
URL:https://sangameyehospital.com/blogs/event/free-eye-test-and-medicine-distribution-camp-banvapar/
ATTACH;FMTTYPE=image/jpeg:https://sangameyehospital.com/blogs/wp-content/uploads/2023/11/402068684_706122131582149_8594884523900193482_n.jpg
END:VEVENT
BEGIN:VEVENT
DTSTART;TZID=UTC:20231108T000000
DTEND;TZID=UTC:20231108T235959
DTSTAMP:20260425T114018
CREATED:20231104T130058Z
LAST-MODIFIED:20231104T130058Z
UID:48-1699401600-1699487999@sangameyehospital.com
SUMMARY:निः शुल्क नेत्र परीक्षण एवं दवा वितरण शिविर | जंगल बेलवार पंचायत भवन\, गोरखपुर
DESCRIPTION:निः शुल्क नेत्र परीक्षण एवं दवा वितरण शिविर |\nस्थान- जंगल बेलवार पंचायत भवन\, गोरखपुर\nदिनांक – 08 नवम्बर 2023\, समय – प्रातः 10 बजे से शाम 3 बजे तक
URL:https://sangameyehospital.com/blogs/event/free-eye-test-and-medicine-distribution-camp/
CATEGORIES:Free Camp
ATTACH;FMTTYPE=image/jpeg:https://sangameyehospital.com/blogs/wp-content/uploads/2023/11/WhatsApp-Image-2023-11-03-at-8.40.00-PM-2.jpeg
END:VEVENT
BEGIN:VEVENT
DTSTART;TZID=Asia/Kolkata:20231105T000000
DTEND;TZID=Asia/Kolkata:20231105T235959
DTSTAMP:20260425T114018
CREATED:20231104T115411Z
LAST-MODIFIED:20231104T124906Z
UID:40-1699142400-1699228799@sangameyehospital.com
SUMMARY:निः शुल्क नेत्र परीक्षण एवं दवा वितरण शिविर | प्राथमिक विद्यालय 2nd\, झगहां\, गोरखपुर
DESCRIPTION:निः शुल्क नेत्र परीक्षण एवं दवा वितरण शिविर | झगहां\, गोरखपुर \nस्थान- प्राथमिक विद्यालय 2nd\, झगहां\, गोरखपुर \nदिनांक – 05 नवम्बर 2023 \, समय – प्रातः 10 बजे से शाम 3 बजे तक
URL:https://sangameyehospital.com/blogs/event/free-eye-test-and-medicine-distribution-camp-jhaghan-gorakhpur/
CATEGORIES:Free Camp
ATTACH;FMTTYPE=image/jpeg:https://sangameyehospital.com/blogs/wp-content/uploads/2023/11/WhatsApp-Image-2023-11-03-at-8.40.00-PM-1.jpeg
END:VEVENT
END:VCALENDAR